BEGIN:VCALENDAR
VERSION:2.0
PRODID:-//eventon.com NONSGML v1.0//EN
CALSCALE:GREGORIAN
METHOD:PUBLISH
BEGIN:VEVENT
UID:69ed300edb459
DTSTAMP:20260425T212014Z
DTSTART:20200229T113000Z
DTEND:20200229T235000Z
LOCATION:Reynolds Tavern  7 Church Cir. Annapolis\,  MD 21401
SUMMARY:Annapolis Restaurant Week
DESCRIPTION:Who doesn&#8217;t love Restaurant Week? Join us for a two-cours
 e lunch or three-course dinner. Don’t miss out on this opportunity to tre
 at yourself to a delicious meal at a great price. These menus are available
  in our First Floor Dining rooms AND in the 1747 Pub. Reservations are reco
 mmended in[..]\nhttps://reynoldstavern.org/events/annapolis-rest-week-2020/
URL:https://reynoldstavern.org/events/annapolis-rest-week-2020/
END:VEVENT
END:VCALENDAR